BEGIN:VCALENDAR
VERSION:2.0
PRODID:-//hacksw/handcal//NONSGML v1.0//EN
BEGIN:VEVENT
SUMMARY:CHAMPIONNAT -11 (2)
UID:e10158d9-10b2-4284-aae8-54b195ff32db
DTSTART:20260328T230000Z
DTEND:20260329T230000Z
LOCATION:Localisation   
CATEGORIES:Sportif
STATUS:
URL;VALUE=URI:https://www.chbb.fr/evenements/2026/03/29/championnat-11-2-2438700
END:VEVENT
END:VCALENDAR
