BEGIN:VCALENDAR
VERSION:2.0
PRODID:-//hacksw/handcal//NONSGML v1.0//EN
BEGIN:VEVENT
SUMMARY:CHAMPIONNAT DEPART 3 SENIORS M
UID:bfa9bd66-0ea8-4eb9-ad94-c0d91b031534
DTSTART:20260327T230000Z
DTEND:20260328T230000Z
LOCATION:Localisation   
CATEGORIES:Sportif
STATUS:
URL;VALUE=URI:https://www.chbb.fr/evenements/2026/03/28/championnat-depart-3-seniors-m-2438710
END:VEVENT
END:VCALENDAR
