BEGIN:VCALENDAR
VERSION:2.0
PRODID:-//hacksw/handcal//NONSGML v1.0//EN
BEGIN:VEVENT
SUMMARY:CHAMPIONNAT -15 M
UID:9dfc72a6-e3ae-4ff9-9d26-464321141a06
DTSTART:20260327T230000Z
DTEND:20260328T230000Z
LOCATION:Localisation   
CATEGORIES:Sportif
STATUS:
URL;VALUE=URI:https://www.chbb.fr/evenements/2026/03/28/championnat-15-m-2438706
END:VEVENT
END:VCALENDAR
