BEGIN:VCALENDAR
VERSION:2.0
PRODID:-//hacksw/handcal//NONSGML v1.0//EN
BEGIN:VEVENT
SUMMARY:CHAMPIONNAT -13
UID:982484db-6809-479b-a5c9-5c31e090f254
DTSTART:20260327T230000Z
DTEND:20260328T230000Z
LOCATION:Localisation   
CATEGORIES:Sportif
STATUS:
URL;VALUE=URI:https://www.chbb.fr/evenements/2026/03/28/championnat-13-2438702
END:VEVENT
END:VCALENDAR
