BEGIN:VCALENDAR
VERSION:2.0
PRODID:-//hacksw/handcal//NONSGML v1.0//EN
BEGIN:VEVENT
SUMMARY:CHAMPIONNAT -13
UID:f1707ef6-1873-4818-afe1-b358eb2e3fdc
DTSTART:20260321T230000Z
DTEND:20260322T230000Z
LOCATION:Localisation   
CATEGORIES:Sportif
STATUS:
URL;VALUE=URI:https://www.chbb.fr/evenements/2026/03/22/championnat-13-2435379
END:VEVENT
END:VCALENDAR
