BEGIN:VCALENDAR
VERSION:2.0
PRODID:-//hacksw/handcal//NONSGML v1.0//EN
BEGIN:VEVENT
SUMMARY:CHAMPIONNAT -18 M
UID:3d2c5485-1f8c-4e0a-a5fd-38567f003933
DTSTART:20260320T230000Z
DTEND:20260321T230000Z
LOCATION:Localisation   
CATEGORIES:Sportif
STATUS:
URL;VALUE=URI:https://www.chbb.fr/evenements/2026/03/21/championnat-18-m-2435385
END:VEVENT
END:VCALENDAR
