BEGIN:VCALENDAR
VERSION:2.0
PRODID:-//hacksw/handcal//NONSGML v1.0//EN
BEGIN:VEVENT
SUMMARY:CHAMPIONNAT -15 F
UID:2aa11b27-d9d9-4721-ab48-46d27bcc2d3d
DTSTART:20260320T230000Z
DTEND:20260321T230000Z
LOCATION:Localisation   
CATEGORIES:Sportif
STATUS:
URL;VALUE=URI:https://www.chbb.fr/evenements/2026/03/21/championnat-15-f-2435380
END:VEVENT
END:VCALENDAR
