BEGIN:VCALENDAR
VERSION:2.0
PRODID:-//hacksw/handcal//NONSGML v1.0//EN
BEGIN:VEVENT
SUMMARY:CHAMPIONNAT -11 (1)
UID:cb701bf3-cb83-4e6d-b35c-7aa2a0ae158f
DTSTART:20260320T230000Z
DTEND:20260321T230000Z
LOCATION:Localisation   
CATEGORIES:Sportif
STATUS:
URL;VALUE=URI:https://www.chbb.fr/evenements/2026/03/21/championnat-11-1-2435377
END:VEVENT
END:VCALENDAR
