BEGIN:VCALENDAR
VERSION:2.0
PRODID:-//hacksw/handcal//NONSGML v1.0//EN
BEGIN:VEVENT
SUMMARY:CHAMPIONNAT -15 M
UID:f70ac2d7-374d-48ff-af09-1a6d13888cb4
DTSTART:20260313T230000Z
DTEND:20260314T230000Z
LOCATION:Localisation   
CATEGORIES:Sportif
STATUS:
URL;VALUE=URI:https://www.chbb.fr/evenements/2026/03/14/championnat-15-m-2435370
END:VEVENT
END:VCALENDAR
