BEGIN:VCALENDAR
VERSION:2.0
PRODID:-//hacksw/handcal//NONSGML v1.0//EN
BEGIN:VEVENT
SUMMARY:CHAMPIONNAT -13
UID:357c0906-e287-4ef6-a669-9145f32b0b78
DTSTART:20260313T230000Z
DTEND:20260314T230000Z
LOCATION:Localisation   
CATEGORIES:Sportif
STATUS:
URL;VALUE=URI:https://www.chbb.fr/evenements/2026/03/14/championnat-13-2435369
END:VEVENT
END:VCALENDAR
