BEGIN:VCALENDAR
VERSION:2.0
PRODID:-//hacksw/handcal//NONSGML v1.0//EN
BEGIN:VEVENT
SUMMARY:CHAMPIONNAT -11 (2)
UID:611d97d5-81b3-4787-8df8-fff856d51137
DTSTART:20260313T230000Z
DTEND:20260314T230000Z
LOCATION:Localisation   
CATEGORIES:Sportif
STATUS:
URL;VALUE=URI:https://www.chbb.fr/evenements/2026/03/14/championnat-11-2-2435368
END:VEVENT
END:VCALENDAR
